BEGIN:VCALENDAR
VERSION:2.0
PRODID:icalendar-ruby
CALSCALE:GREGORIAN
BEGIN:VEVENT
DTSTAMP:20210121T212642Z
UID:10d6db75-1bb7-4e85-819c-5d6b0653dec2
DTSTART;TZID=Pacific/Auckland:20210124T130000
DTEND;TZID=Pacific/Auckland:20210124T133000
DESCRIPTION:Property ID# 499978
SUMMARY:Openhome for 141 Hazlett Street
END:VEVENT
END:VCALENDAR
