BEGIN:VCALENDAR
VERSION:2.0
PRODID:icalendar-ruby
CALSCALE:GREGORIAN
BEGIN:VEVENT
DTSTAMP:20210121T212657Z
UID:26760633-47a2-4e98-a696-1c741b68c83e
DTSTART;TZID=Pacific/Auckland:20210124T111500
DTEND;TZID=Pacific/Auckland:20210124T114500
DESCRIPTION:Property ID# 496942
SUMMARY:Openhome for 104 Molyneux Avenue
END:VEVENT
END:VCALENDAR
