BEGIN:VCALENDAR
VERSION:2.0
PRODID:icalendar-ruby
CALSCALE:GREGORIAN
BEGIN:VEVENT
DTSTAMP:20210121T212652Z
UID:85f47e35-3c18-4b7b-896a-be0bdbec05db
DTSTART;TZID=Pacific/Auckland:20210124T130000
DTEND;TZID=Pacific/Auckland:20210124T134500
DESCRIPTION:Property ID# 496993
SUMMARY:Openhome for 7 and 7A The Dunes
END:VEVENT
END:VCALENDAR
