BEGIN:VCALENDAR
VERSION:2.0
PRODID:icalendar-ruby
CALSCALE:GREGORIAN
BEGIN:VEVENT
DTSTAMP:20210121T212648Z
UID:19468063-dd1f-41e7-8245-b726497f0117
DTSTART;TZID=Pacific/Auckland:20210124T120000
DTEND;TZID=Pacific/Auckland:20210124T123000
DESCRIPTION:Property ID# 499259
SUMMARY:Openhome for 102a Molyneux Avenue
END:VEVENT
END:VCALENDAR
