BEGIN:VCALENDAR
VERSION:2.0
PRODID:icalendar-ruby
CALSCALE:GREGORIAN
BEGIN:VEVENT
DTSTAMP:20210121T212655Z
UID:e38b6b6a-d6ee-49b8-b05a-fa5aa81d28b0
DTSTART;TZID=Pacific/Auckland:20210124T140000
DTEND;TZID=Pacific/Auckland:20210124T143000
DESCRIPTION:Property ID# 497059
SUMMARY:Openhome for 18 Cairnmuir Crescent
END:VEVENT
END:VCALENDAR
