BEGIN:VCALENDAR
VERSION:2.0
PRODID:icalendar-ruby
CALSCALE:GREGORIAN
BEGIN:VEVENT
DTSTAMP:20210121T212835Z
UID:152a2a95-082b-4b84-824a-a1371743c252
DTSTART;VALUE=DATE:20201213
DESCRIPTION:Property ID# 496871\, Time: 3:00PM
SUMMARY:Auction for 
END:VEVENT
END:VCALENDAR
